Workbook

Sheet 様式３
A1: （別紙様式３）
A2: 農林水産省就業体験実習調書
A3: ふりがな | I3: 写真貼付欄 カラー、枠に収まる 大きさで貼り付けて ください。 スマートフォン撮影 等でも可です。
A4: 氏名
A6: 性別 | D6: 年齢 | F6: 歳 | G6: 学年
A7: 参加されるプログラム
A8: 連絡先 | B8: 郵便番号
B9: 住所 | I9: 連絡がつく曜日・時間帯
B10: 携帯電話 番号 | I10: 月 | J10: 火 | K10: 水 | L10: 木 | M10: 金 | N10: 時間帯
B11: メールアドレス（携帯は不可）
A12: ※ ご連絡先について支障の無い範囲でご記入ください。個人情報ですので取扱いには十分注意いたします。
A13: 所属大学 | B13: 大学・大学院名 | K13: 文系・理系
B14: 学部・学科
B15: 専攻
B16: 所属研究室
A17: 高校名
A18: 現在の学習・研究の具体的な内容
A19: 語学力・ その程度 | B19: 外国語名 | G19: 他機関・企業等での インターンシップ 経験
B20: 英検、TOEIC、TOEFL等
A21: 特技等 | F21: 注目している時事問題や本等
A23: １．就業体験実習に応募した理由や志望動機（実習を行う上での目的、目標など）※300字程度 | P23: 文字数
P24: =LEN(A24) -> 0
A25: ▽ 次ページ（２枚目）に続きます ▽
A26: 2-1．実習を希望する部局に○をしてください。（複数選択可） | H26: 2-2．実習に参加できない日程があれば×を入れてください。日付は変更しないでください。 | P26: ○
A27: 大臣官房 | B27: 大臣官房 新事業・食品産業部 | C27: 大臣官房 統計部 | D27: 消費・安全局 | E27: 輸出・国際局 | F27: 農産局 | I27: 1月12日（火）～ 1月15日（金） | M27: 2月15日（月）～ 2月19日（金）
I28: 1月18日（月）～ 1月22日（金） | M28: 2月22日（月）～ 2月26日（金）
A29: 畜産局 | B29: 経営局 | C29: 農村振興局 | D29: 技術会議 事務局 | E29: 林野庁 | F29: 水産庁 | I29: 1月25日（月）～ 1月29日（金） | M29: 3月1日（月）～ 3月5日（金）
I30: 2月1日（月）～ 2月5日（金） | M30: 3月8日（月）～ 3月12日（金）
A31: 選択した部署以外の受入れになる場合は、参加を希望しない | I31: 2月8日（月）～ 2月12日（金）
A33: ※ 受入部局、受入れ時期等の調整のため、担当者から直接ご連絡する場合がありますので、御協力をお願いします。
A34: 2-3．農林水産省での就業体験実習で特に希望する業務分野等があれば詳細に記入 ※必ずしも希望に添えるものではございませんので、ご了承願います。
A37: ３．自己PR（学業や課外活動で力を入れていること、自己分析など）※300字程度 | P37: 文字数
P38: =LEN(A38) -> 0
A39: 【アンケート】下記の質問についてご協力頂けましたら幸いです。支障のない範囲でご記入ください。
A40: Q.1 農林水産省の就業体験実習を、どこで知りましたか？（〇を付ける）
A41: 先輩 | B41: 友人・知人 | C41: 大学 | D41: SNS | E41: 農林水産省ＨＰ | F41: その他
A43: Q.2 国家公務員総合職または一般職（大卒）試験を受験予定ですか？（〇を付ける） 合格済の方は合格した年を記載してください。
A44: はい | B44: いいえ | C44: 検討中 | D44: 合格済 | E44: 合格年(令和○年度)
A46: Q.3 Q.2で「はい」を選択された方は希望職種と受験予定の試験区分をお答えください。 「合格済」を選択された方は希望職種と合格済の試験区分をお答えください。
A47: 希望職種（〇を付ける） | F47: 受験予定または合格済の試験区分
A48: 総合職 事務 | B48: 総合職 技術 | C48: 一般職 行政 | D48: 一般職 技術 | E48: 未定
A50: Q.4 現時点でどのようなキャリアを歩みたいと考えていますか。（〇を付ける。複数選択可）
A51: 大学院進学 | B51: 国家公務員（総合職） | C51: 国家公務員（一般職） | D51: 地方公務員 | E51: 民間企業等 | F51: 大学・研究機関 | G51: その他
A53: ※印刷プレビューで枠内に文字が収まること及び両面１枚に収まることを 必ずご確認ください。 | J53: 御協力ありがとうございました。
C101: 2027年春期インターンシップ
C102: 2027年春期キャリア実習

Sheet 集計用
A1: 大学番号 | B1: 学生氏名 | C1: ふりがな | D1: 性別 | E1: 年齢 | F1: メアド | G1: 学年 | H1: 大学 | I1: 大学院 | J1: 学部・学科 | K1: 高校名 | L1: 文理 | M1: 語学力 | N1: 大臣官房 | O1: 新事業・食品産業部 | P1: 統計部 | Q1: 消費・安全局 | R1: 輸出・国際局 | S1: 農産局 | T1: 畜産局 | U1: 経営局 | V1: 農村振興局 | W1: 技術会議 | X1: 林野庁 | Y1: 水産庁 | Z1: 希望先以外の受入れになる場合参加を希望せず | AA1: =様式３!I27 -> 1月12日（火）～ 1月15日（金） | AB1: =様式３!I28 -> 1月18日（月）～ 1月22日（金） | AC1: =様式３!I29 -> 1月25日（月）～ 1月29日（金） | AD1: =様式３!I30 -> 2月1日（月）～ 2月5日（金） | AE1: =様式３!I31 -> 2月8日（月）～ 2月12日（金） | AF1: =様式３!M27 -> 2月15日（月）～ 2月19日（金） | AG1: =様式３!M28 -> 2月22日（月）～ 2月26日（金） | AH1: =様式３!M29 -> 3月1日（月）～ 3月5日（金） | AI1: =様式３!M30 -> 3月8日（月）～ 3月12日（金） | AJ1: 就業体験実習に応募した理由や志望動機 | AK1: 就業体験実習で 希望する業務分野
B2: =様式３!B4 -> 0 | C2: =様式３!B3 -> 0 | D2: =様式３!B6 -> 0 | E2: =様式３!E6 -> 0 | F2: =様式３!C11 -> 0 | G2: =様式３!H6 -> 0 | H2: =様式３!D13 -> 0 | I2: =様式３!I13 -> 0 | J2: =様式３!D14 -> 0 | K2: =様式３!B17 -> 0 | L2: =様式３!N13 -> 0 | M2: =様式３!D20 -> 0 | N2: =様式３!A28 -> 0 | O2: =様式３!B28 -> 0 | P2: =様式３!C28 -> 0 | Q2: =様式３!D28 -> 0 | R2: =様式３!E28 -> 0 | S2: =様式３!F28 -> 0 | T2: =様式３!A30 -> 0 | U2: =様式３!B30 -> 0 | V2: =様式３!C30 -> 0 | W2: =様式３!D30 -> 0 | X2: =様式３!E30 -> 0 | Y2: =様式３!F30 -> 0 | Z2: =様式３!A32 -> 0 | AA2: =様式３!H27 -> 0 | AB2: =様式３!H28 -> 0 | AC2: =様式３!H29 -> 0 | AD2: =様式３!H30 -> 0 | AE2: =様式３!H31 -> 0 | AF2: =様式３!L27 -> 0 | AG2: =様式３!L28 -> 0 | AH2: =様式３!L29 -> 0 | AI2: =様式３!L30 -> 0 | AJ2: =様式３!A24 -> 0 | AK2: =様式３!A35 -> 0
